BEGIN:VCALENDAR
VERSION:2.0
PRODID:-//SAVOSA - ECPv6.15.20//NONSGML v1.0//EN
CALSCALE:GREGORIAN
METHOD:PUBLISH
X-ORIGINAL-URL:https://savosahandbal.nl
X-WR-CALDESC:Evenementen voor SAVOSA
REFRESH-INTERVAL;VALUE=DURATION:PT1H
X-Robots-Tag:noindex
X-PUBLISHED-TTL:PT1H
BEGIN:VTIMEZONE
TZID:UTC
BEGIN:STANDARD
TZOFFSETFROM:+0000
TZOFFSETTO:+0000
TZNAME:UTC
DTSTART:20210101T000000
END:STANDARD
END:VTIMEZONE
BEGIN:VEVENT
DTSTART;TZID=UTC:20231028T163000
DTEND;TZID=UTC:20231029T003000
DTSTAMP:20260420T115940
CREATED:20230928T121500Z
LAST-MODIFIED:20230928T174000Z
UID:997-1698510600-1698539400@savosahandbal.nl
SUMMARY:Halloween SAVOSA
DESCRIPTION:Kom griezelen tijdens het Halloween Event\nBeste Halloweenners van SAVOSA\, het is bijna zover! Op zaterdag 28 oktober nodigen we jullie allemaal uit om samen met ons een onvergetelijk Halloween feest te vieren. Van de jongste F-jeugd tot de senioren. En het wordt pas echt leuk als jullie in jullie engste Halloween kostuums komen! 🎃👻🕷️ \n📅 Zie onderaan het bericht de mogelijkheid om event toe te voegen aan je agenda! \nVoor de F- en E-jeugd 👽\nDe F en E jeugd zijn vanaf 16:30 uur welkom in de grote kantine. Daar staat om te beginnen wat Spooky 🕷 lekkers klaar. Daarna gaan we een lampion 🎃 versieren op een gekke en Spooky-👻-achtige manier. Als we daarmee klaar zijn eten we met zijn allen wat lekkers🪱🐜. Is al het lekkers op? Dan starten we met onze spooky versierde lampionnen voor een speurtocht onder begeleiding van Spooky-figuren. We lopen bij huizen langs\, die door ons zijn uitgezocht om snoep 🍭🍬 te halen. Aan het einde van de speurtocht maken we ter herinnering nog een leuke foto. Het feest voor de F en E is rond 20:00 uur afgelopen. De kinderen kunnen dan opgehaald worden. \n\nAankomst vanaf 16:30 uur in de grote kantine.\nlampionnen versieren op een griezelig leuke manier.\nGezamenlijk smullen van lekkernijen\, waaronder misschien wel wat kriebelige insectenlekkernijen!\nTrick or treat! Op pad met onze Spooky versierde lampionnen voor een speurtocht.\nIn een Spooky outfit op de foto voor een  leuke herinneringsfoto.\n20:00 einde feest voor de F- en E-jeugd.\n\nVoor de D-jeugd en ouder 💀\nOm 20:00 uur wordt het feest vervolgd voor de D jeugd en ouder. Het zou super zijn als jullie allemaal verkleed zijn in Spooky-style. Voor jullie is er een Spooky  route in Aksent en ook een Spooky  feest in de kleine kantine. Om 00:30 uur eindigt dit Spooky feest. \n\nHet feest begint om 20:00 uur.\nKom in je meest angstaanjagende Halloween outfits.\nSpooktocht met een spannende route in Aksent.\nAngstaanjagend goed feest in de kleine kantine.\n00:30 uur Spooky festijn eindigt.\n\nWe hopen dat zoveel mogelijk SAVOSA Spooky’s zich bij ons geweldige Halloween feest aansluiten. Wij staan in ieder geval te popelen om jullie te verwelkomen! \nVoeg het evenement toe aan je agenda via de onderstaande knop! Zien we jullie op 28 oktober? \nGriezelige groeten van de KAC-commissie 🎃👻🕷️
URL:https://savosahandbal.nl/event/halloween-savosa/
LOCATION:Aksent
ATTACH;FMTTYPE=image/jpeg:https://savosahandbal.nl/wp-content/uploads/2023/09/halloween-savosa-1.jpg
END:VEVENT
BEGIN:VEVENT
DTSTART;TZID=UTC:20230204T190000
DTEND;TZID=UTC:20230204T230000
DTSTAMP:20260420T115940
CREATED:20230122T222947Z
LAST-MODIFIED:20230924T193727Z
UID:304-1675537200-1675551600@savosahandbal.nl
SUMMARY:Super Pub Quiz
DESCRIPTION:Op 4 februari beginnen we met de Super Pub Quiz. In teams van maximaal zes kan je gaan strijden voor leuke prijzen. Inschrijven voor de pubquiz is niet nodig. De inloop begint om 19:00 en om 19:30 starten we met de pubquiz.
URL:https://savosahandbal.nl/event/super-pub-quiz/
LOCATION:Aksent
ATTACH;FMTTYPE=image/jpeg:https://savosahandbal.nl/wp-content/uploads/2023/01/WhatsApp-Image-2023-01-22-at-23.27.17-1.jpeg
END:VEVENT
BEGIN:VEVENT
DTSTART;TZID=UTC:20230122T080000
DTEND;TZID=UTC:20230122T170000
DTSTAMP:20260420T115940
CREATED:20230122T223822Z
LAST-MODIFIED:20230122T223822Z
UID:310-1674374400-1674406800@savosahandbal.nl
SUMMARY:Savosa Toen & Nu
DESCRIPTION:Op 18 maart is er een reünie op Savosa. Dit vieren we met een BBQ en een Borrel. Een mooi moment om iedereen weer eens te zien. Zet het in je agenda.
URL:https://savosahandbal.nl/event/savosa-toen-nu/
END:VEVENT
BEGIN:VEVENT
DTSTART;TZID=UTC:20230122T080000
DTEND;TZID=UTC:20230122T170000
DTSTAMP:20260420T115940
CREATED:20230122T223740Z
LAST-MODIFIED:20230122T223740Z
UID:308-1674374400-1674406800@savosahandbal.nl
SUMMARY:Superfeest Savosa
DESCRIPTION:Op 11 maart hebben we een superfeest van Savosa. Het thema houden we nog even geheim. Hou de Socials van Savosa in de gaten\, maar zet het wel alvast in je agenda.
URL:https://savosahandbal.nl/event/superfeest-savosa/
END:VEVENT
BEGIN:VEVENT
DTSTART;TZID=UTC:20221125T190000
DTEND;TZID=UTC:20221125T233000
DTSTAMP:20260420T115940
CREATED:20221027T224102Z
LAST-MODIFIED:20221027T224200Z
UID:267-1669402800-1669419000@savosahandbal.nl
SUMMARY:Dobbelspel Savosa
DESCRIPTION:Dobbelspel Savosa\nOp 25 november vieren we Sinterklaas op Savosa voor de D\, C\, B\, A\, Senioren en Recreanten. Met de gehele vereniging gaan we het gezellig vieren. \nTijdsplanning per team\nDe volgende planning is gemaakt voor de gehele avond. \n\n19:00 – 21:00 Dobbelspel voor de D\, C\, B\n21:00 – 23:00 Dobbelspel voor de A\, Senioren en Recreanten\n23:00 Een gezellige borrel\n\n 
URL:https://savosahandbal.nl/event/dobbelspel-savosa/
END:VEVENT
BEGIN:VEVENT
DTSTART;VALUE=DATE:20221113
DTEND;VALUE=DATE:20221114
DTSTAMP:20260420T115940
CREATED:20221027T223604Z
LAST-MODIFIED:20221027T223604Z
UID:264-1668297600-1668383999@savosahandbal.nl
SUMMARY:Savosa Super Sunday
DESCRIPTION:Savosa Super Sunday\n \n13 november is het weer zo ver. Als van ouds organiseren we een Savosa Super Sunday. De gehele dag door gaan we alle team die thuis moeten spelen\, aanmoedigen. Hierna kunnen we gaan juichen voor Feyenoord en sluiten we af met Formule 1 op het grote scherm in het Aksent. \nWedstrijdprogramma Savosa Super Sunday\nDe Dames A\, Dames 1&2 en de Heren spelen thuis. De volgende wedstrijden staan op de planning. Kom jij alle teams aanmoedigen? \n\nSavosa DA1-Verburch DA1 10:45\nSavosa DS1-Foreholte DS2 12:00\nSavosa HS1-Ventura HS2 1:15\nSavosa DS2-HVOS DS1 2:30\n\nDe Kantine is de gehele dag open\nMet een vol programma aan wedstrijden zorgen we ervoor dat er in de kantine van alles te vinden is. In de ochtend een kop koffie met koek\, in de middag een tosti Savosa en in de avond zorgen we ervoor dat er avondeten aanwezig is. \nFeyenoord en Max aanmoedigen op het grote scherm\nNaast handballen is er ook voetbal en formule 1. Om 16:45 speelt Feyenoord de derby tegen Excelsior en om 19:00 start de race in Brazilië.
URL:https://savosahandbal.nl/event/savosa-super-sunday/
END:VEVENT
END:VCALENDAR